BEGIN:VCALENDAR
VERSION:2.0
PRODID:https://www.kufer.de/kuferweb / DE
METHOD:PUBLISH
CALSCALE:GREGORIAN
X-WR-TIMEZONE:Europe/Berlin
BEGIN:VTIMEZONE
TZID:Europe/Berlin
X-LIC-LOCATION:Europe/Berlin
BEGIN:DAYLIGHT
TZOFFSETFROM:+0100
TZOFFSETTO:+0200
TZNAME:CEST
DTSTART:19700329T020000
RRULE:FREQ=YEARLY;INTERVAL=1;BYDAY=-1SU;BYMONTH=3
END:DAYLIGHT
BEGIN:STANDARD
TZOFFSETFROM:+0200
TZOFFSETTO:+0100
TZNAME:CET
DTSTART:19701025T030000
RRULE:FREQ=YEARLY;INTERVAL=1;BYDAY=-1SU;BYMONTH=10
END:STANDARD
END:VTIMEZONE
BEGIN:VEVENT
DTSTAMP:20260423T102643
DTSTART;TZID=Europe/Berlin:20260416T173000
DTEND;TZID=Europe/Berlin:20260416T183000
UID:261-55630-20260416T173000@VHS IM LANDKREIS UNTERALLGÄU E.V.
SUMMARY:Yoga für Junggebliebene - mit Yogaerfahrung (261-55630) 
LOCATION:Ettringen, Albert Schweitzer - Grundschule, Mehrzweckraum, Schulstr. 10, 86833 Ettringen
END:VEVENT
BEGIN:VEVENT
DTSTAMP:20260423T102643
DTSTART;TZID=Europe/Berlin:20260423T173000
DTEND;TZID=Europe/Berlin:20260423T183000
UID:261-55630-20260423T173000@VHS IM LANDKREIS UNTERALLGÄU E.V.
SUMMARY:Yoga für Junggebliebene - mit Yogaerfahrung (261-55630) 
LOCATION:Ettringen, Albert Schweitzer - Grundschule, Mehrzweckraum, Schulstr. 10, 86833 Ettringen
END:VEVENT
BEGIN:VEVENT
DTSTAMP:20260423T102643
DTSTART;TZID=Europe/Berlin:20260430T173000
DTEND;TZID=Europe/Berlin:20260430T183000
UID:261-55630-20260430T173000@VHS IM LANDKREIS UNTERALLGÄU E.V.
SUMMARY:Yoga für Junggebliebene - mit Yogaerfahrung (261-55630) 
LOCATION:Ettringen, Albert Schweitzer - Grundschule, Mehrzweckraum, Schulstr. 10, 86833 Ettringen
END:VEVENT
BEGIN:VEVENT
DTSTAMP:20260423T102643
DTSTART;TZID=Europe/Berlin:20260506T173000
DTEND;TZID=Europe/Berlin:20260506T183000
UID:261-55630-20260506T173000@VHS IM LANDKREIS UNTERALLGÄU E.V.
SUMMARY:Yoga für Junggebliebene - mit Yogaerfahrung (261-55630) 
LOCATION:Ettringen, Albert Schweitzer - Grundschule, Mehrzweckraum, Schulstr. 10, 86833 Ettringen
END:VEVENT
BEGIN:VEVENT
DTSTAMP:20260423T102643
DTSTART;TZID=Europe/Berlin:20260520T173000
DTEND;TZID=Europe/Berlin:20260520T183000
UID:261-55630-20260520T173000@VHS IM LANDKREIS UNTERALLGÄU E.V.
SUMMARY:Yoga für Junggebliebene - mit Yogaerfahrung (261-55630) 
LOCATION:Ettringen, Albert Schweitzer - Grundschule, Mehrzweckraum, Schulstr. 10, 86833 Ettringen
END:VEVENT
BEGIN:VEVENT
DTSTAMP:20260423T102643
DTSTART;TZID=Europe/Berlin:20260611T173000
DTEND;TZID=Europe/Berlin:20260611T183000
UID:261-55630-20260611T173000@VHS IM LANDKREIS UNTERALLGÄU E.V.
SUMMARY:Yoga für Junggebliebene - mit Yogaerfahrung (261-55630) 
LOCATION:Ettringen, Albert Schweitzer - Grundschule, Mehrzweckraum, Schulstr. 10, 86833 Ettringen
END:VEVENT
BEGIN:VEVENT
DTSTAMP:20260423T102643
DTSTART;TZID=Europe/Berlin:20260618T173000
DTEND;TZID=Europe/Berlin:20260618T183000
UID:261-55630-20260618T173000@VHS IM LANDKREIS UNTERALLGÄU E.V.
SUMMARY:Yoga für Junggebliebene - mit Yogaerfahrung (261-55630) 
LOCATION:Ettringen, Albert Schweitzer - Grundschule, Mehrzweckraum, Schulstr. 10, 86833 Ettringen
END:VEVENT
BEGIN:VEVENT
DTSTAMP:20260423T102643
DTSTART;TZID=Europe/Berlin:20260702T173000
DTEND;TZID=Europe/Berlin:20260702T183000
UID:261-55630-20260702T173000@VHS IM LANDKREIS UNTERALLGÄU E.V.
SUMMARY:Yoga für Junggebliebene - mit Yogaerfahrung (261-55630) 
LOCATION:Ettringen, Albert Schweitzer - Grundschule, Mehrzweckraum, Schulstr. 10, 86833 Ettringen
END:VEVENT
BEGIN:VEVENT
DTSTAMP:20260423T102643
DTSTART;TZID=Europe/Berlin:20260709T173000
DTEND;TZID=Europe/Berlin:20260709T183000
UID:261-55630-20260709T173000@VHS IM LANDKREIS UNTERALLGÄU E.V.
SUMMARY:Yoga für Junggebliebene - mit Yogaerfahrung (261-55630) 
LOCATION:Ettringen, Albert Schweitzer - Grundschule, Mehrzweckraum, Schulstr. 10, 86833 Ettringen
END:VEVENT
BEGIN:VEVENT
DTSTAMP:20260423T102643
DTSTART;TZID=Europe/Berlin:20260716T173000
DTEND;TZID=Europe/Berlin:20260716T183000
UID:261-55630-20260716T173000@VHS IM LANDKREIS UNTERALLGÄU E.V.
SUMMARY:Yoga für Junggebliebene - mit Yogaerfahrung (261-55630) 
LOCATION:Ettringen, Albert Schweitzer - Grundschule, Mehrzweckraum, Schulstr. 10, 86833 Ettringen
END:VEVENT
END:VCALENDAR